BEGIN:VCALENDAR
VERSION:2.0
PRODID:-//East Leake &amp; District Local History Society - ECPv6.15.20//NONSGML v1.0//EN
CALSCALE:GREGORIAN
METHOD:PUBLISH
X-ORIGINAL-URL:https://eastleake-history.org.uk
X-WR-CALDESC:Events for East Leake &amp; District Local History Society
REFRESH-INTERVAL;VALUE=DURATION:PT1H
X-Robots-Tag:noindex
X-PUBLISHED-TTL:PT1H
BEGIN:VTIMEZONE
TZID:Europe/London
BEGIN:DAYLIGHT
TZOFFSETFROM:+0000
TZOFFSETTO:+0100
TZNAME:BST
DTSTART:20180325T010000
END:DAYLIGHT
BEGIN:STANDARD
TZOFFSETFROM:+0100
TZOFFSETTO:+0000
TZNAME:GMT
DTSTART:20181028T010000
END:STANDARD
BEGIN:DAYLIGHT
TZOFFSETFROM:+0000
TZOFFSETTO:+0100
TZNAME:BST
DTSTART:20190331T010000
END:DAYLIGHT
BEGIN:STANDARD
TZOFFSETFROM:+0100
TZOFFSETTO:+0000
TZNAME:GMT
DTSTART:20191027T010000
END:STANDARD
BEGIN:DAYLIGHT
TZOFFSETFROM:+0000
TZOFFSETTO:+0100
TZNAME:BST
DTSTART:20200329T010000
END:DAYLIGHT
BEGIN:STANDARD
TZOFFSETFROM:+0100
TZOFFSETTO:+0000
TZNAME:GMT
DTSTART:20201025T010000
END:STANDARD
END:VTIMEZONE
BEGIN:VEVENT
DTSTART;TZID=Europe/London:20190508T193000
DTEND;TZID=Europe/London:20190508T210000
DTSTAMP:20260424T164453
CREATED:20180621T102534Z
LAST-MODIFIED:20180621T102840Z
UID:174-1557343800-1557349200@eastleake-history.org.uk
SUMMARY:"Nottingham-on-Sea: a history of Skegness" - A talk by Bob Massey - Preceeded by the AGM
DESCRIPTION:Where did people go for their holidays.
URL:https://eastleake-history.org.uk/event/to-be-confirmed-2/
END:VEVENT
END:VCALENDAR