BEGIN:VCALENDAR
VERSION:2.0
PRODID:-//East Leake &amp; District Local History Society - ECPv6.15.20//NONSGML v1.0//EN
CALSCALE:GREGORIAN
METHOD:PUBLISH
X-ORIGINAL-URL:https://eastleake-history.org.uk
X-WR-CALDESC:Events for East Leake &amp; District Local History Society
REFRESH-INTERVAL;VALUE=DURATION:PT1H
X-Robots-Tag:noindex
X-PUBLISHED-TTL:PT1H
BEGIN:VTIMEZONE
TZID:Europe/London
BEGIN:DAYLIGHT
TZOFFSETFROM:+0000
TZOFFSETTO:+0100
TZNAME:BST
DTSTART:20190331T010000
END:DAYLIGHT
BEGIN:STANDARD
TZOFFSETFROM:+0100
TZOFFSETTO:+0000
TZNAME:GMT
DTSTART:20191027T010000
END:STANDARD
BEGIN:DAYLIGHT
TZOFFSETFROM:+0000
TZOFFSETTO:+0100
TZNAME:BST
DTSTART:20200329T010000
END:DAYLIGHT
BEGIN:STANDARD
TZOFFSETFROM:+0100
TZOFFSETTO:+0000
TZNAME:GMT
DTSTART:20201025T010000
END:STANDARD
BEGIN:DAYLIGHT
TZOFFSETFROM:+0000
TZOFFSETTO:+0100
TZNAME:BST
DTSTART:20210328T010000
END:DAYLIGHT
BEGIN:STANDARD
TZOFFSETFROM:+0100
TZOFFSETTO:+0000
TZNAME:GMT
DTSTART:20211031T010000
END:STANDARD
END:VTIMEZONE
BEGIN:VEVENT
DTSTART;TZID=Europe/London:20200318T193000
DTEND;TZID=Europe/London:20200318T210000
DTSTAMP:20260419T221346
CREATED:20190607T192134Z
LAST-MODIFIED:20200314T183723Z
UID:225-1584559800-1584565200@eastleake-history.org.uk
SUMMARY:"History of Goose Fair including film" - a talk by Bob Massey PLEASE NOTE THIS MEETING HAS BEEN POSTPONED
DESCRIPTION:
URL:https://eastleake-history.org.uk/event/history-of-goose-fair-including-film-a-talk-by-bob-massey/
LOCATION:St. Marys Hall – East Leake\, St. Marys Hall\, Main Street\, East Leake\, Loughborough\, LE12 6PB\, United Kingdom
ORGANIZER;CN="Mary Hodgkinson":MAILTO:secretary@eastleake-history.org.uk
END:VEVENT
END:VCALENDAR